BEGIN:VCALENDAR
VERSION:2.0
PRODID:-//Schützenverein GSO Freren - ECPv6.9.0//NONSGML v1.0//EN
CALSCALE:GREGORIAN
METHOD:PUBLISH
X-ORIGINAL-URL:https://www.schuetzenverein-gso.de
X-WR-CALDESC:Veranstaltungen für Schützenverein GSO Freren
REFRESH-INTERVAL;VALUE=DURATION:PT1H
X-Robots-Tag:noindex
X-PUBLISHED-TTL:PT1H
BEGIN:VTIMEZONE
TZID:Europe/Berlin
BEGIN:DAYLIGHT
TZOFFSETFROM:+0100
TZOFFSETTO:+0200
TZNAME:CEST
DTSTART:20260329T010000
END:DAYLIGHT
BEGIN:STANDARD
TZOFFSETFROM:+0200
TZOFFSETTO:+0100
TZNAME:CET
DTSTART:20261025T010000
END:STANDARD
END:VTIMEZONE
BEGIN:VEVENT
DTSTART;TZID=Europe/Berlin:20260509T080000
DTEND;TZID=Europe/Berlin:20260509T170000
DTSTAMP:20260419T214944
CREATED:20240514T092232Z
LAST-MODIFIED:20250423T190711Z
UID:1925-1778313600-1778346000@www.schuetzenverein-gso.de
SUMMARY:Jubelfest Schützenverein Laxten 1801 e.V.
DESCRIPTION:
URL:https://www.schuetzenverein-gso.de/event/jubelfest-schuetzenverein-laxten-1801-e-v/
ATTACH;FMTTYPE=image/png:https://www.schuetzenverein-gso.de/wp-content/uploads/2024/05/laxten.png
END:VEVENT
BEGIN:VEVENT
DTSTART;TZID=Europe/Berlin:20260509T120000
DTEND;TZID=Europe/Berlin:20260509T170000
DTSTAMP:20260419T214944
CREATED:20250423T191855Z
LAST-MODIFIED:20250423T194043Z
UID:2171-1778328000-1778346000@www.schuetzenverein-gso.de
SUMMARY:Jubelfest 2026 - Schützenverein Handrup e.V.
DESCRIPTION:
URL:https://www.schuetzenverein-gso.de/event/jubelfest-2026-schuetzenverein-handrup-e-v/
ATTACH;FMTTYPE=image/png:https://www.schuetzenverein-gso.de/wp-content/uploads/2025/04/Handrup.png
END:VEVENT
BEGIN:VEVENT
DTSTART;TZID=Europe/Berlin:20260509T190000
DTEND;TZID=Europe/Berlin:20260511T230000
DTSTAMP:20260419T214944
CREATED:20251106T073033Z
LAST-MODIFIED:20251106T073033Z
UID:2258-1778353200-1778540400@www.schuetzenverein-gso.de
SUMMARY:Schützenfest GSO
DESCRIPTION:
URL:https://www.schuetzenverein-gso.de/event/schuetzenfest-gso/
LOCATION:Schützenplatz Freren\, Oststraße 1\, Freren\, Niedersachsen\, 49832\, Deutschland
CATEGORIES:Schützenfest
ATTACH;FMTTYPE=image/jpeg:https://www.schuetzenverein-gso.de/wp-content/uploads/2025/05/IMG-20250515-WA0003.jpg
ORGANIZER;CN="Sch%C3%BCtzenverein Geringhusen-Setlage-Ostwie":MAILTO:info@schuetzenverein-gso.de
END:VEVENT
END:VCALENDAR