BEGIN:VCALENDAR
VERSION:2.0
PRODID:-//Schützenverein GSO Freren - ECPv6.9.0//NONSGML v1.0//EN
CALSCALE:GREGORIAN
METHOD:PUBLISH
X-ORIGINAL-URL:https://www.schuetzenverein-gso.de
X-WR-CALDESC:Veranstaltungen für Schützenverein GSO Freren
REFRESH-INTERVAL;VALUE=DURATION:PT1H
X-Robots-Tag:noindex
X-PUBLISHED-TTL:PT1H
BEGIN:VTIMEZONE
TZID:Europe/Berlin
BEGIN:DAYLIGHT
TZOFFSETFROM:+0100
TZOFFSETTO:+0200
TZNAME:CEST
DTSTART:20260329T010000
END:DAYLIGHT
BEGIN:STANDARD
TZOFFSETFROM:+0200
TZOFFSETTO:+0100
TZNAME:CET
DTSTART:20261025T010000
END:STANDARD
END:VTIMEZONE
BEGIN:VEVENT
DTSTART;TZID=Europe/Berlin:20260516T080000
DTEND;TZID=Europe/Berlin:20260516T170000
DTSTAMP:20260419T184910
CREATED:20240514T092349Z
LAST-MODIFIED:20250423T194911Z
UID:1927-1778918400-1778950800@www.schuetzenverein-gso.de
SUMMARY:Jubelfest Schützenverein Lengerich-Bauernschaft von 1601 e.V.
DESCRIPTION:
URL:https://www.schuetzenverein-gso.de/event/jubelfest-schuetzenverein-lengerich-bauernschaft-von-1601-e-v/
ATTACH;FMTTYPE=image/png:https://www.schuetzenverein-gso.de/wp-content/uploads/2024/05/lengerich.png
END:VEVENT
END:VCALENDAR